BEGIN:VCALENDAR
VERSION:2.0
PRODID:-//hacksw/handcal//NONSGML v1.0//EN
CALSCALE:GREGORIAN
BEGIN:VEVENT
ORGANIZER;CN=Marriott Vacations Worldwide:MAILTO:no-reply@mail.gcs-web.com
DTEND:
UID:4239def8-54d7-4979-9b1d-5e354b899899
DTSTAMP:1776953723
LOCATION:https://edge.media-server.com/mmc/p/ydp3sa2x
DESCRIPTION:Event Details https://ir.marriottvacationsworldwide.com/events/event-details/marriott-vacations-worldwide-1q26-earnings-call\n\nWebcast: https://edge.media-server.com/mmc/p/ydp3sa2x
URL;VALUE=URI:https://edge.media-server.com/mmc/p/ydp3sa2x
SUMMARY:Marriott Vacations Worldwide - Marriott Vacations Worldwide 1Q26 Earnings Call
DTSTART:20260505T123000Z
END:VEVENT
END:VCALENDAR